BEGIN:VCALENDAR
VERSION:2.0
CALSCALE:GREGORIAN
PRODID:-//Diputació de Barcelona//DibaCMS//EN
BEGIN:VEVENT
UID:DI_9466@www.corberadellobregat.cat
DTSTAMP:20260422T063956
DTSTART:20260422T190000
DTEND:20260422T190000
SUMMARY:Presentació del llibre: No pasa nada
LOCATION:Sant Salvador, 25 08757 Corbera de Llobregat
METHOD:PUBLISH
X-WR-CALNAME:ajuntament@corberadellobregat.cat
X-WR-TIMEZONE:Europe/Madrid
DESCRIPTION:
URI:https://www.corberadellobregat.cat/actualitat/agenda/presentacio-del-llibre-no-pasa-nada.html
CLASS:PUBLIC
END:VEVENT
BEGIN:VEVENT
UID:DI_9357@www.corberadellobregat.cat
DTSTAMP:20260422T063956
DTSTART:20260423T100000
DTEND:20260423T200000
SUMMARY:Sant Jordi
LOCATION:Plaça Mil·lenari i av.Catalunya 
METHOD:PUBLISH
X-WR-CALNAME:ajuntament@corberadellobregat.cat
X-WR-TIMEZONE:Europe/Madrid
DESCRIPTION:
URI:https://www.corberadellobregat.cat/actualitat/agenda/sant-jordi.html
CLASS:PUBLIC
END:VEVENT
BEGIN:VEVENT
UID:DI_9467@www.corberadellobregat.cat
DTSTAMP:20260422T063956
DTSTART:20260424T173000
DTEND:20260424T173000
SUMMARY:Conte per a bebès.  Del bressol a la lluna
LOCATION:Sant Salvador, 25 08757 Corbera de Llobregat
METHOD:PUBLISH
X-WR-CALNAME:ajuntament@corberadellobregat.cat
X-WR-TIMEZONE:Europe/Madrid
DESCRIPTION:
URI:https://www.corberadellobregat.cat/actualitat/agenda/conte-per-a-bebes-del-bressol-a-la-lluna.html
CLASS:PUBLIC
END:VEVENT
BEGIN:VEVENT
UID:DI_9485@www.corberadellobregat.cat
DTSTAMP:20260422T063956
DTSTART:20260425T100000
DTEND:20260425T140000
SUMMARY:Sessió de Jocs.  Club Ludonàutic Corbera 
LOCATION:Sant Salvador, 25 08757 Corbera de Llobregat
METHOD:PUBLISH
X-WR-CALNAME:ajuntament@corberadellobregat.cat
X-WR-TIMEZONE:Europe/Madrid
DESCRIPTION:
URI:https://www.corberadellobregat.cat/actualitat/agenda/sessio-de-jocs-club-ludonautic-corbera-.html
CLASS:PUBLIC
END:VEVENT
BEGIN:VEVENT
UID:DI_9421@www.corberadellobregat.cat
DTSTAMP:20260422T063956
DTSTART:20260425T110000
DTEND:20260425T120000
SUMMARY:Visita guiada a Sant Ponç
LOCATION:Carrer de Sant Ponç, s/n 08758 Cervelló
METHOD:PUBLISH
X-WR-CALNAME:ajuntament@corberadellobregat.cat
X-WR-TIMEZONE:Europe/Madrid
DESCRIPTION:
URI:https://www.corberadellobregat.cat/actualitat/agenda/9421-visita-guiada-a-sant-ponc.html
CLASS:PUBLIC
END:VEVENT
BEGIN:VEVENT
UID:DI_9496@www.corberadellobregat.cat
DTSTAMP:20260422T063956
DTSTART:20260426T100000
DTEND:20260426T140000
SUMMARY:Campanya de donació de sang
LOCATION:Carrer Andreu Cerdà, 12 08757 Corbera de Llobregat
METHOD:PUBLISH
X-WR-CALNAME:ajuntament@corberadellobregat.cat
X-WR-TIMEZONE:Europe/Madrid
DESCRIPTION:
URI:https://www.corberadellobregat.cat/actualitat/agenda/9496-campanya-de-donacio-de-sang.html
CLASS:PUBLIC
END:VEVENT
BEGIN:VEVENT
UID:DI_9471@www.corberadellobregat.cat
DTSTAMP:20260422T063956
DTSTART:20260426T113000
DTEND:20260426T133000
SUMMARY:Jugateca Ambiental.  El dia de les papallones
LOCATION:08757 Corbera de Llobregat
METHOD:PUBLISH
X-WR-CALNAME:ajuntament@corberadellobregat.cat
X-WR-TIMEZONE:Europe/Madrid
DESCRIPTION:
URI:https://www.corberadellobregat.cat/actualitat/agenda/jugateca-ambiental-el-dia-de-les-papallones.html
CLASS:PUBLIC
END:VEVENT
BEGIN:VEVENT
UID:DI_9455@www.corberadellobregat.cat
DTSTAMP:20260422T063956
DTSTART:20260428T173000
DTEND:20260428T173000
SUMMARY:Mostra dels treballs de l'alumnat de l'Institut Can Margarit
LOCATION:Sant Salvador, 25 08757 Corbera de Llobregat
METHOD:PUBLISH
X-WR-CALNAME:ajuntament@corberadellobregat.cat
X-WR-TIMEZONE:Europe/Madrid
DESCRIPTION:
URI:https://www.corberadellobregat.cat/actualitat/agenda/mostra-dels-treballs-de-lalumnat-de-linstitut-can-margarit.html
CLASS:PUBLIC
END:VEVENT
BEGIN:VEVENT
UID:DI_9456@www.corberadellobregat.cat
DTSTAMP:20260422T063956
DTSTART:20260429T180000
DTEND:20260429T180000
SUMMARY:club de lectura
LOCATION:Sant Salvador, 25 08757 Corbera de Llobregat
METHOD:PUBLISH
X-WR-CALNAME:ajuntament@corberadellobregat.cat
X-WR-TIMEZONE:Europe/Madrid
DESCRIPTION:
URI:https://www.corberadellobregat.cat/actualitat/agenda/9456-club-de-lectura.html
CLASS:PUBLIC
END:VEVENT
BEGIN:VEVENT
UID:DI_9486@www.corberadellobregat.cat
DTSTAMP:20260422T063956
DTSTART:20260502T100000
DTEND:20260502T140000
SUMMARY:Sessió de Jocs.  Club Ludonàutic Corbera 
LOCATION:Sant Salvador, 25 08757 Corbera de Llobregat
METHOD:PUBLISH
X-WR-CALNAME:ajuntament@corberadellobregat.cat
X-WR-TIMEZONE:Europe/Madrid
DESCRIPTION:
URI:https://www.corberadellobregat.cat/actualitat/agenda/9486-sessio-de-jocs-club-ludonautic-corbera-.html
CLASS:PUBLIC
END:VEVENT
BEGIN:VEVENT
UID:DI_9472@www.corberadellobregat.cat
DTSTAMP:20260422T063956
DTSTART:20260503T113000
DTEND:20260503T133000
SUMMARY:Jugateca Ambiental.  Termòmetre del soroll
LOCATION:08757 Corbera de Llobregat
METHOD:PUBLISH
X-WR-CALNAME:ajuntament@corberadellobregat.cat
X-WR-TIMEZONE:Europe/Madrid
DESCRIPTION:
URI:https://www.corberadellobregat.cat/actualitat/agenda/jugateca-ambiental-termometre-del-soroll.html
CLASS:PUBLIC
END:VEVENT
BEGIN:VEVENT
UID:DI_9289@www.corberadellobregat.cat
DTSTAMP:20260422T063956
DTSTART:20260508T120000
DTEND:20260508T140000
SUMMARY:Sessió de networking 
LOCATION:Sant Salvador, 25 08757 Corbera de Llobregat
METHOD:PUBLISH
X-WR-CALNAME:ajuntament@corberadellobregat.cat
X-WR-TIMEZONE:Europe/Madrid
DESCRIPTION:
URI:https://www.corberadellobregat.cat/actualitat/agenda/sessio-de-networking-.html
CLASS:PUBLIC
END:VEVENT
BEGIN:VEVENT
UID:DI_9487@www.corberadellobregat.cat
DTSTAMP:20260422T063956
DTSTART:20260509T100000
DTEND:20260509T140000
SUMMARY:Sessió de Jocs.  Club Ludonàutic Corbera 
LOCATION:Sant Salvador, 25 08757 Corbera de Llobregat
METHOD:PUBLISH
X-WR-CALNAME:ajuntament@corberadellobregat.cat
X-WR-TIMEZONE:Europe/Madrid
DESCRIPTION:
URI:https://www.corberadellobregat.cat/actualitat/agenda/9487-sessio-de-jocs-club-ludonautic-corbera-.html
CLASS:PUBLIC
END:VEVENT
BEGIN:VEVENT
UID:DI_9358@www.corberadellobregat.cat
DTSTAMP:20260422T063956
DTSTART:20260510T100000
DTEND:20260510T200000
SUMMARY:Aplec de Sant Ponç
LOCATION:
METHOD:PUBLISH
X-WR-CALNAME:ajuntament@corberadellobregat.cat
X-WR-TIMEZONE:Europe/Madrid
DESCRIPTION:
URI:https://www.corberadellobregat.cat/actualitat/agenda/9358-aplec-de-sant-ponc.html
CLASS:PUBLIC
END:VEVENT
BEGIN:VEVENT
UID:DI_9473@www.corberadellobregat.cat
DTSTAMP:20260422T063956
DTSTART:20260510T113000
DTEND:20260510T133000
SUMMARY:Jugateca Ambiental.  Cosmètica natural amb plantes remeieres
LOCATION:08757 Corbera de Llobregat
METHOD:PUBLISH
X-WR-CALNAME:ajuntament@corberadellobregat.cat
X-WR-TIMEZONE:Europe/Madrid
DESCRIPTION:
URI:https://www.corberadellobregat.cat/actualitat/agenda/9473-jugateca-ambiental-cosmetica-natural-amb-plantes-remeieres.html
CLASS:PUBLIC
END:VEVENT
BEGIN:VEVENT
UID:DI_9441@www.corberadellobregat.cat
DTSTAMP:20260422T063956
DTSTART:20260512T093000
DTEND:20260512T143000
SUMMARY:Taller: Alfabetització digital per a la recerca de feina
LOCATION:Carrer Sant Jordi 29 08757 Corbera de Llobregat
METHOD:PUBLISH
X-WR-CALNAME:ajuntament@corberadellobregat.cat
X-WR-TIMEZONE:Europe/Madrid
DESCRIPTION:
URI:https://www.corberadellobregat.cat/actualitat/agenda/taller-alfabetitzacio-digital-per-a-la-recerca-de-feina.html
CLASS:PUBLIC
END:VEVENT
BEGIN:VEVENT
UID:DI_9442@www.corberadellobregat.cat
DTSTAMP:20260422T063956
DTSTART:20260514T093000
DTEND:20260514T143000
SUMMARY:Taller: Alfabetització digital per a la recerca de feina 
LOCATION:Carrer Sant Jordi 29 08757 Corbera de Llobregat
METHOD:PUBLISH
X-WR-CALNAME:ajuntament@corberadellobregat.cat
X-WR-TIMEZONE:Europe/Madrid
DESCRIPTION:
URI:https://www.corberadellobregat.cat/actualitat/agenda/taller-alfabetitzacio-digital-per-a-la-recerca-de-feina-.html
CLASS:PUBLIC
END:VEVENT
BEGIN:VEVENT
UID:DI_9477@www.corberadellobregat.cat
DTSTAMP:20260422T063956
DTSTART:20260514T170000
DTEND:20260514T190000
SUMMARY:Taller educatiu per a joves: Gènere, amor i desigualtats 
LOCATION:Sant Salvador, 25 08757 Corbera de Llobregat
METHOD:PUBLISH
X-WR-CALNAME:ajuntament@corberadellobregat.cat
X-WR-TIMEZONE:Europe/Madrid
DESCRIPTION:
URI:https://www.corberadellobregat.cat/actualitat/agenda/taller-educatiu-per-a-joves-genere-amor-i-desigualtats-.html
CLASS:PUBLIC
END:VEVENT
BEGIN:VEVENT
UID:DI_9464@www.corberadellobregat.cat
DTSTAMP:20260422T063956
DTSTART:20260515T203000
DTEND:20260515T203000
SUMMARY:Sons Corbera: De Holywood a Bollywood
LOCATION:Carrer de Sant Ponç, s/n 08758 Cervelló
METHOD:PUBLISH
X-WR-CALNAME:ajuntament@corberadellobregat.cat
X-WR-TIMEZONE:Europe/Madrid
DESCRIPTION:
URI:https://www.corberadellobregat.cat/actualitat/agenda/sons-corbera-de-holywood-a-bollywood.html
CLASS:PUBLIC
END:VEVENT
BEGIN:VEVENT
UID:DI_9488@www.corberadellobregat.cat
DTSTAMP:20260422T063956
DTSTART:20260516T100000
DTEND:20260516T140000
SUMMARY:Sessió de Jocs.  Club Ludonàutic Corbera 
LOCATION:Sant Salvador, 25 08757 Corbera de Llobregat
METHOD:PUBLISH
X-WR-CALNAME:ajuntament@corberadellobregat.cat
X-WR-TIMEZONE:Europe/Madrid
DESCRIPTION:
URI:https://www.corberadellobregat.cat/actualitat/agenda/9488-sessio-de-jocs-club-ludonautic-corbera-.html
CLASS:PUBLIC
END:VEVENT
BEGIN:VEVENT
UID:DI_9474@www.corberadellobregat.cat
DTSTAMP:20260422T063956
DTSTART:20260517T000000
DTEND:20260517T000000
SUMMARY:Jugateca Ambiental.  Art rupestre
LOCATION:08757 Corbera de Llobregat
METHOD:PUBLISH
X-WR-CALNAME:ajuntament@corberadellobregat.cat
X-WR-TIMEZONE:Europe/Madrid
DESCRIPTION:
URI:https://www.corberadellobregat.cat/actualitat/agenda/9474-jugateca-ambiental-art-rupestre.html
CLASS:PUBLIC
END:VEVENT
BEGIN:VEVENT
UID:DI_9465@www.corberadellobregat.cat
DTSTAMP:20260422T063956
DTSTART:20260517T000000
DTEND:20260517T000000
SUMMARY:Dia Internacional contra l’Homofòbia, la Transfòbia i la Bifòbia
LOCATION:
METHOD:PUBLISH
X-WR-CALNAME:ajuntament@corberadellobregat.cat
X-WR-TIMEZONE:Europe/Madrid
DESCRIPTION:
URI:https://www.corberadellobregat.cat/actualitat/agenda/dia-internacional-contra-lhomofobia-la-transfobia-i-la-bifobia.html
CLASS:PUBLIC
END:VEVENT
BEGIN:VEVENT
UID:DI_9443@www.corberadellobregat.cat
DTSTAMP:20260422T063956
DTSTART:20260518T093000
DTEND:20260518T143000
SUMMARY:Taller: Alfabetització digital per a la recerca de feina 
LOCATION:Carrer Sant Jordi 29 08757 Corbera de Llobregat
METHOD:PUBLISH
X-WR-CALNAME:ajuntament@corberadellobregat.cat
X-WR-TIMEZONE:Europe/Madrid
DESCRIPTION:
URI:https://www.corberadellobregat.cat/actualitat/agenda/9443-taller-alfabetitzacio-digital-per-a-la-recerca-de-feina-.html
CLASS:PUBLIC
END:VEVENT
BEGIN:VEVENT
UID:DI_9444@www.corberadellobregat.cat
DTSTAMP:20260422T063956
DTSTART:20260519T093000
DTEND:20260519T143000
SUMMARY:Taller: Alfabetització digital per a la recerca de feina 
LOCATION:Carrer Sant Jordi 29 08757 Corbera de Llobregat
METHOD:PUBLISH
X-WR-CALNAME:ajuntament@corberadellobregat.cat
X-WR-TIMEZONE:Europe/Madrid
DESCRIPTION:
URI:https://www.corberadellobregat.cat/actualitat/agenda/9444-taller-alfabetitzacio-digital-per-a-la-recerca-de-feina-.html
CLASS:PUBLIC
END:VEVENT
BEGIN:VEVENT
UID:DI_9446@www.corberadellobregat.cat
DTSTAMP:20260422T063956
DTSTART:20260521T093000
DTEND:20260521T143000
SUMMARY:Taller: Alfabetització digital per a la recerca de feina  - duplicat - duplicat
LOCATION:Carrer Sant Jordi 29 08757 Corbera de Llobregat
METHOD:PUBLISH
X-WR-CALNAME:ajuntament@corberadellobregat.cat
X-WR-TIMEZONE:Europe/Madrid
DESCRIPTION:
URI:https://www.corberadellobregat.cat/actualitat/agenda/taller-alfabetitzacio-digital-per-a-la-recerca-de-feina-duplicat-duplicat.html
CLASS:PUBLIC
END:VEVENT
BEGIN:VEVENT
UID:DI_9489@www.corberadellobregat.cat
DTSTAMP:20260422T063956
DTSTART:20260523T100000
DTEND:20260523T140000
SUMMARY:Sessió de Jocs.  Club Ludonàutic Corbera 
LOCATION:Sant Salvador, 25 08757 Corbera de Llobregat
METHOD:PUBLISH
X-WR-CALNAME:ajuntament@corberadellobregat.cat
X-WR-TIMEZONE:Europe/Madrid
DESCRIPTION:
URI:https://www.corberadellobregat.cat/actualitat/agenda/9489-sessio-de-jocs-club-ludonautic-corbera-.html
CLASS:PUBLIC
END:VEVENT
BEGIN:VEVENT
UID:DI_9422@www.corberadellobregat.cat
DTSTAMP:20260422T063956
DTSTART:20260523T110000
DTEND:20260523T120000
SUMMARY:Visita guiada a Sant Ponç 
LOCATION:Carrer de Sant Ponç, s/n 08758 Cervelló
METHOD:PUBLISH
X-WR-CALNAME:ajuntament@corberadellobregat.cat
X-WR-TIMEZONE:Europe/Madrid
DESCRIPTION:
URI:https://www.corberadellobregat.cat/actualitat/agenda/9422-visita-guiada-a-sant-ponc-.html
CLASS:PUBLIC
END:VEVENT
BEGIN:VEVENT
UID:DI_9478@www.corberadellobregat.cat
DTSTAMP:20260422T063956
DTSTART:20260528T170000
DTEND:20260528T190000
SUMMARY:Taller educatiu per a joves: Gènere, amor i desigualtats 
LOCATION:Sant Salvador, 25 08757 Corbera de Llobregat
METHOD:PUBLISH
X-WR-CALNAME:ajuntament@corberadellobregat.cat
X-WR-TIMEZONE:Europe/Madrid
DESCRIPTION:
URI:https://www.corberadellobregat.cat/actualitat/agenda/9478-taller-educatiu-per-a-joves-genere-amor-i-desigualtats-.html
CLASS:PUBLIC
END:VEVENT
BEGIN:VEVENT
UID:DI_9359@www.corberadellobregat.cat
DTSTAMP:20260422T063956
DTSTART:20260529T200000
DTEND:20260529T235900
SUMMARY:Gastrocèntric
LOCATION:
METHOD:PUBLISH
X-WR-CALNAME:ajuntament@corberadellobregat.cat
X-WR-TIMEZONE:Europe/Madrid
DESCRIPTION:
URI:https://www.corberadellobregat.cat/actualitat/agenda/gastrocentric.html
CLASS:PUBLIC
END:VEVENT
BEGIN:VEVENT
UID:DI_9490@www.corberadellobregat.cat
DTSTAMP:20260422T063956
DTSTART:20260530T100000
DTEND:20260530T140000
SUMMARY:Sessió de Jocs.  Club Ludonàutic Corbera 
LOCATION:Sant Salvador, 25 08757 Corbera de Llobregat
METHOD:PUBLISH
X-WR-CALNAME:ajuntament@corberadellobregat.cat
X-WR-TIMEZONE:Europe/Madrid
DESCRIPTION:
URI:https://www.corberadellobregat.cat/actualitat/agenda/9490-sessio-de-jocs-club-ludonautic-corbera-.html
CLASS:PUBLIC
END:VEVENT
BEGIN:VEVENT
UID:DI_9435@www.corberadellobregat.cat
DTSTAMP:20260422T063956
DTSTART:20260602T100000
DTEND:20260602T123000
SUMMARY:Taller: Com reinventar-se laboralment després de migrar
LOCATION:Sant Salvador, 25 08757 Corbera de Llobregat
METHOD:PUBLISH
X-WR-CALNAME:ajuntament@corberadellobregat.cat
X-WR-TIMEZONE:Europe/Madrid
DESCRIPTION:
URI:https://www.corberadellobregat.cat/actualitat/agenda/taller-com-reinventar-se-laboralment-despres-de-migrar.html
CLASS:PUBLIC
END:VEVENT
BEGIN:VEVENT
UID:DI_9436@www.corberadellobregat.cat
DTSTAMP:20260422T063956
DTSTART:20260604T100000
DTEND:20260604T123000
SUMMARY:Taller: Com reinventar-se laboralment després de migrar 
LOCATION:Sant Salvador, 25 08757 Corbera de Llobregat
METHOD:PUBLISH
X-WR-CALNAME:ajuntament@corberadellobregat.cat
X-WR-TIMEZONE:Europe/Madrid
DESCRIPTION:
URI:https://www.corberadellobregat.cat/actualitat/agenda/taller-com-reinventar-se-laboralment-despres-de-migrar-.html
CLASS:PUBLIC
END:VEVENT
BEGIN:VEVENT
UID:DI_9290@www.corberadellobregat.cat
DTSTAMP:20260422T063956
DTSTART:20260605T120000
DTEND:20260605T140000
SUMMARY:Sessió de networking  
LOCATION:Sant Salvador, 25 08757 Corbera de Llobregat
METHOD:PUBLISH
X-WR-CALNAME:ajuntament@corberadellobregat.cat
X-WR-TIMEZONE:Europe/Madrid
DESCRIPTION:
URI:https://www.corberadellobregat.cat/actualitat/agenda/9290-sessio-de-networking-.html
CLASS:PUBLIC
END:VEVENT
BEGIN:VEVENT
UID:DI_9491@www.corberadellobregat.cat
DTSTAMP:20260422T063956
DTSTART:20260606T100000
DTEND:20260606T140000
SUMMARY:Sessió de Jocs.  Club Ludonàutic Corbera 
LOCATION:Sant Salvador, 25 08757 Corbera de Llobregat
METHOD:PUBLISH
X-WR-CALNAME:ajuntament@corberadellobregat.cat
X-WR-TIMEZONE:Europe/Madrid
DESCRIPTION:
URI:https://www.corberadellobregat.cat/actualitat/agenda/9491-sessio-de-jocs-club-ludonautic-corbera-.html
CLASS:PUBLIC
END:VEVENT
BEGIN:VEVENT
UID:DI_9437@www.corberadellobregat.cat
DTSTAMP:20260422T063956
DTSTART:20260609T100000
DTEND:20260609T123000
SUMMARY:Taller: Com reinventar-se laboralment després de migrar 
LOCATION:Sant Salvador, 25 08757 Corbera de Llobregat
METHOD:PUBLISH
X-WR-CALNAME:ajuntament@corberadellobregat.cat
X-WR-TIMEZONE:Europe/Madrid
DESCRIPTION:
URI:https://www.corberadellobregat.cat/actualitat/agenda/9437-taller-com-reinventar-se-laboralment-despres-de-migrar-.html
CLASS:PUBLIC
END:VEVENT
BEGIN:VEVENT
UID:DI_9438@www.corberadellobregat.cat
DTSTAMP:20260422T063956
DTSTART:20260611T100000
DTEND:20260611T123000
SUMMARY:Taller: Com reinventar-se laboralment després de migrar 
LOCATION:Sant Salvador, 25 08757 Corbera de Llobregat
METHOD:PUBLISH
X-WR-CALNAME:ajuntament@corberadellobregat.cat
X-WR-TIMEZONE:Europe/Madrid
DESCRIPTION:
URI:https://www.corberadellobregat.cat/actualitat/agenda/9438-taller-com-reinventar-se-laboralment-despres-de-migrar-.html
CLASS:PUBLIC
END:VEVENT
BEGIN:VEVENT
UID:DI_9492@www.corberadellobregat.cat
DTSTAMP:20260422T063956
DTSTART:20260613T100000
DTEND:20260613T140000
SUMMARY:Sessió de Jocs.  Club Ludonàutic Corbera 
LOCATION:Sant Salvador, 25 08757 Corbera de Llobregat
METHOD:PUBLISH
X-WR-CALNAME:ajuntament@corberadellobregat.cat
X-WR-TIMEZONE:Europe/Madrid
DESCRIPTION:
URI:https://www.corberadellobregat.cat/actualitat/agenda/9492-sessio-de-jocs-club-ludonautic-corbera-.html
CLASS:PUBLIC
END:VEVENT
BEGIN:VEVENT
UID:DI_9479@www.corberadellobregat.cat
DTSTAMP:20260422T063956
DTSTART:20260618T170000
DTEND:20260618T190000
SUMMARY:Taller educatiu per a joves: Gènere, amor i desigualtats 
LOCATION:Sant Salvador, 25 08757 Corbera de Llobregat
METHOD:PUBLISH
X-WR-CALNAME:ajuntament@corberadellobregat.cat
X-WR-TIMEZONE:Europe/Madrid
DESCRIPTION:
URI:https://www.corberadellobregat.cat/actualitat/agenda/9479-taller-educatiu-per-a-joves-genere-amor-i-desigualtats-.html
CLASS:PUBLIC
END:VEVENT
BEGIN:VEVENT
UID:DI_9494@www.corberadellobregat.cat
DTSTAMP:20260422T063956
DTSTART:20260620T100000
DTEND:20260620T140000
SUMMARY:Sessió de Jocs.  Club Ludonàutic Corbera 
LOCATION:Sant Salvador, 25 08757 Corbera de Llobregat
METHOD:PUBLISH
X-WR-CALNAME:ajuntament@corberadellobregat.cat
X-WR-TIMEZONE:Europe/Madrid
DESCRIPTION:
URI:https://www.corberadellobregat.cat/actualitat/agenda/9494-sessio-de-jocs-club-ludonautic-corbera-.html
CLASS:PUBLIC
END:VEVENT
BEGIN:VEVENT
UID:DI_9495@www.corberadellobregat.cat
DTSTAMP:20260422T063956
DTSTART:20260627T100000
DTEND:20260627T140000
SUMMARY:Sessió de Jocs.  Club Ludonàutic Corbera 
LOCATION:Sant Salvador, 25 08757 Corbera de Llobregat
METHOD:PUBLISH
X-WR-CALNAME:ajuntament@corberadellobregat.cat
X-WR-TIMEZONE:Europe/Madrid
DESCRIPTION:
URI:https://www.corberadellobregat.cat/actualitat/agenda/9495-sessio-de-jocs-club-ludonautic-corbera-.html
CLASS:PUBLIC
END:VEVENT
BEGIN:VEVENT
UID:DI_9423@www.corberadellobregat.cat
DTSTAMP:20260422T063956
DTSTART:20260627T110000
DTEND:20260627T120000
SUMMARY:Visita guiada a Sant Ponç 
LOCATION:Carrer de Sant Ponç, s/n 08758 Cervelló
METHOD:PUBLISH
X-WR-CALNAME:ajuntament@corberadellobregat.cat
X-WR-TIMEZONE:Europe/Madrid
DESCRIPTION:
URI:https://www.corberadellobregat.cat/actualitat/agenda/9423-visita-guiada-a-sant-ponc-.html
CLASS:PUBLIC
END:VEVENT
BEGIN:VEVENT
UID:DI_9292@www.corberadellobregat.cat
DTSTAMP:20260422T063956
DTSTART:20260703T120000
DTEND:20260703T120000
SUMMARY:Sessió de networking   
LOCATION:Sant Salvador, 25 08757 Corbera de Llobregat
METHOD:PUBLISH
X-WR-CALNAME:ajuntament@corberadellobregat.cat
X-WR-TIMEZONE:Europe/Madrid
DESCRIPTION:
URI:https://www.corberadellobregat.cat/actualitat/agenda/9292-sessio-de-networking-.html
CLASS:PUBLIC
END:VEVENT
BEGIN:VEVENT
UID:DI_9374@www.corberadellobregat.cat
DTSTAMP:20260422T063956
DTSTART:20260706T000000
DTEND:20260709T000000
SUMMARY:1er Curs de Música Barroca de Corbera de Llobregat
LOCATION:
METHOD:PUBLISH
X-WR-CALNAME:ajuntament@corberadellobregat.cat
X-WR-TIMEZONE:Europe/Madrid
DESCRIPTION:
URI:https://www.corberadellobregat.cat/actualitat/agenda/1er-curs-de-musica-barroca-de-corbera-de-llobregat.html
CLASS:PUBLIC
END:VEVENT
BEGIN:VEVENT
UID:DI_9424@www.corberadellobregat.cat
DTSTAMP:20260422T063956
DTSTART:20260725T110000
DTEND:20260725T120000
SUMMARY:Visita guiada a Sant Ponç 
LOCATION:Carrer de Sant Ponç, s/n 08758 Cervelló
METHOD:PUBLISH
X-WR-CALNAME:ajuntament@corberadellobregat.cat
X-WR-TIMEZONE:Europe/Madrid
DESCRIPTION:
URI:https://www.corberadellobregat.cat/actualitat/agenda/9424-visita-guiada-a-sant-ponc-.html
CLASS:PUBLIC
END:VEVENT
BEGIN:VEVENT
UID:DI_9425@www.corberadellobregat.cat
DTSTAMP:20260422T063956
DTSTART:20260822T110000
DTEND:20260822T120000
SUMMARY:Visita guiada a Sant Ponç  
LOCATION:Carrer de Sant Ponç, s/n 08758 Cervelló
METHOD:PUBLISH
X-WR-CALNAME:ajuntament@corberadellobregat.cat
X-WR-TIMEZONE:Europe/Madrid
DESCRIPTION:
URI:https://www.corberadellobregat.cat/actualitat/agenda/9425-visita-guiada-a-sant-ponc-.html
CLASS:PUBLIC
END:VEVENT
BEGIN:VEVENT
UID:DI_9426@www.corberadellobregat.cat
DTSTAMP:20260422T063956
DTSTART:20260926T110000
DTEND:20260926T120000
SUMMARY:Visita guiada a Sant Ponç 
LOCATION:Carrer de Sant Ponç, s/n 08758 Cervelló
METHOD:PUBLISH
X-WR-CALNAME:ajuntament@corberadellobregat.cat
X-WR-TIMEZONE:Europe/Madrid
DESCRIPTION:
URI:https://www.corberadellobregat.cat/actualitat/agenda/9426-visita-guiada-a-sant-ponc-.html
CLASS:PUBLIC
END:VEVENT
BEGIN:VEVENT
UID:DI_9293@www.corberadellobregat.cat
DTSTAMP:20260422T063956
DTSTART:20261002T120000
DTEND:20261002T120000
SUMMARY:Sessió de networking    
LOCATION:Sant Salvador, 25 08757 Corbera de Llobregat
METHOD:PUBLISH
X-WR-CALNAME:ajuntament@corberadellobregat.cat
X-WR-TIMEZONE:Europe/Madrid
DESCRIPTION:
URI:https://www.corberadellobregat.cat/actualitat/agenda/9293-sessio-de-networking-.html
CLASS:PUBLIC
END:VEVENT
BEGIN:VEVENT
UID:DI_9360@www.corberadellobregat.cat
DTSTAMP:20260422T063956
DTSTART:20261003T100000
DTEND:20261003T220000
SUMMARY:Mercat del Bandoler
LOCATION:
METHOD:PUBLISH
X-WR-CALNAME:ajuntament@corberadellobregat.cat
X-WR-TIMEZONE:Europe/Madrid
DESCRIPTION:
URI:https://www.corberadellobregat.cat/actualitat/agenda/9360-mercat-del-bandoler.html
CLASS:PUBLIC
END:VEVENT
BEGIN:VEVENT
UID:DI_9427@www.corberadellobregat.cat
DTSTAMP:20260422T063956
DTSTART:20261024T110000
DTEND:20261024T120000
SUMMARY:Visita guiada a Sant Ponç 
LOCATION:Carrer de Sant Ponç, s/n 08758 Cervelló
METHOD:PUBLISH
X-WR-CALNAME:ajuntament@corberadellobregat.cat
X-WR-TIMEZONE:Europe/Madrid
DESCRIPTION:
URI:https://www.corberadellobregat.cat/actualitat/agenda/9427-visita-guiada-a-sant-ponc-.html
CLASS:PUBLIC
END:VEVENT
BEGIN:VEVENT
UID:DI_9294@www.corberadellobregat.cat
DTSTAMP:20260422T063956
DTSTART:20261106T120000
DTEND:20261106T120000
SUMMARY:Sessió de networking     
LOCATION:Sant Salvador, 25 08757 Corbera de Llobregat
METHOD:PUBLISH
X-WR-CALNAME:ajuntament@corberadellobregat.cat
X-WR-TIMEZONE:Europe/Madrid
DESCRIPTION:
URI:https://www.corberadellobregat.cat/actualitat/agenda/9294-sessio-de-networking-.html
CLASS:PUBLIC
END:VEVENT
BEGIN:VEVENT
UID:DI_9428@www.corberadellobregat.cat
DTSTAMP:20260422T063956
DTSTART:20261128T110000
DTEND:20261128T120000
SUMMARY:Visita guiada a Sant Ponç 
LOCATION:Carrer de Sant Ponç, s/n 08758 Cervelló
METHOD:PUBLISH
X-WR-CALNAME:ajuntament@corberadellobregat.cat
X-WR-TIMEZONE:Europe/Madrid
DESCRIPTION:
URI:https://www.corberadellobregat.cat/actualitat/agenda/9428-visita-guiada-a-sant-ponc-.html
CLASS:PUBLIC
END:VEVENT
BEGIN:VEVENT
UID:DI_9295@www.corberadellobregat.cat
DTSTAMP:20260422T063956
DTSTART:20261211T120000
DTEND:20261211T120000
SUMMARY:Sessió de networking      
LOCATION:Sant Salvador, 25 08757 Corbera de Llobregat
METHOD:PUBLISH
X-WR-CALNAME:ajuntament@corberadellobregat.cat
X-WR-TIMEZONE:Europe/Madrid
DESCRIPTION:
URI:https://www.corberadellobregat.cat/actualitat/agenda/9295-sessio-de-networking-.html
CLASS:PUBLIC
END:VEVENT
BEGIN:VEVENT
UID:DI_9361@www.corberadellobregat.cat
DTSTAMP:20260422T063956
DTSTART:20261212T100000
DTEND:20261212T200000
SUMMARY:FiraTast de Nadal
LOCATION:
METHOD:PUBLISH
X-WR-CALNAME:ajuntament@corberadellobregat.cat
X-WR-TIMEZONE:Europe/Madrid
DESCRIPTION:
URI:https://www.corberadellobregat.cat/actualitat/agenda/9361-firatast-de-nadal.html
CLASS:PUBLIC
END:VEVENT
BEGIN:VEVENT
UID:DI_9429@www.corberadellobregat.cat
DTSTAMP:20260422T063956
DTSTART:20261219T110000
DTEND:20261219T120000
SUMMARY:Visita guiada a Sant Ponç 
LOCATION:Carrer de Sant Ponç, s/n 08758 Cervelló
METHOD:PUBLISH
X-WR-CALNAME:ajuntament@corberadellobregat.cat
X-WR-TIMEZONE:Europe/Madrid
DESCRIPTION:
URI:https://www.corberadellobregat.cat/actualitat/agenda/9429-visita-guiada-a-sant-ponc-.html
CLASS:PUBLIC
END:VEVENT
END:VCALENDAR
