BEGIN:VCALENDAR
VERSION:2.0
CALSCALE:GREGORIAN
PRODID:-//Diputació de Barcelona//DibaCMS//EN
BEGIN:VEVENT
UID:8958
DTSTAMP:20260424T111022
DTSTART:20251027T173000
DTEND:20251027T173000
SUMMARY:Pintacares de Halloween
LOCATION:Sant Salvador, 25 08757 Corbera de Llobregat
METHOD:PUBLISH
X-WR-CALNAME:ajuntament@corberadellobregat.cat
X-WR-TIMEZONE:Europe/Madrid
DESCRIPTION:
URI:https://www.corberadellobregat.cat/actualitat/agenda/pintacares-de-halloween.html
CLASS:PUBLIC
END:VEVENT
END:VCALENDAR
