BEGIN:VCALENDAR
VERSION:2.0
CALSCALE:GREGORIAN
PRODID:-//Diputació de Barcelona//DibaCMS//EN
BEGIN:VEVENT
UID:8971
DTSTAMP:20260424T100234
DTSTART:20251113T173000
DTEND:20251113T173000
SUMMARY:Empremtes invisibles
LOCATION:Sant Salvador, 25 08757 Corbera de Llobregat
METHOD:PUBLISH
X-WR-CALNAME:ajuntament@corberadellobregat.cat
X-WR-TIMEZONE:Europe/Madrid
DESCRIPTION:
URI:https://www.corberadellobregat.cat/actualitat/agenda/empremtes-invisibles.html
CLASS:PUBLIC
END:VEVENT
END:VCALENDAR
