BEGIN:VCALENDAR
VERSION:2.0
CALSCALE:GREGORIAN
PRODID:-//Diputació de Barcelona//DibaCMS//EN
BEGIN:VEVENT
UID:9036
DTSTAMP:20260422T065202
DTSTART:20251117T000000
DTEND:20251205T000000
SUMMARY:Exposició: Neus Català, memòria i lluita
LOCATION:Sant Salvador, 25 08757 Corbera de Llobregat
METHOD:PUBLISH
X-WR-CALNAME:ajuntament@corberadellobregat.cat
X-WR-TIMEZONE:Europe/Madrid
DESCRIPTION:
URI:https://www.corberadellobregat.cat/actualitat/agenda/exposicio-neus-catala-memoria-i-lluita.html
CLASS:PUBLIC
END:VEVENT
END:VCALENDAR
