BEGIN:VCALENDAR
VERSION:2.0
CALSCALE:GREGORIAN
PRODID:-//Diputació de Barcelona//DibaCMS//EN
BEGIN:VEVENT
UID:9312
DTSTAMP:20260423T171904
DTSTART:20260303T171500
DTEND:20260303T171500
SUMMARY:Jornada de portes obertes a l'Institut Can Margarit 
LOCATION:
METHOD:PUBLISH
X-WR-CALNAME:ajuntament@corberadellobregat.cat
X-WR-TIMEZONE:Europe/Madrid
DESCRIPTION:
URI:https://www.corberadellobregat.cat/actualitat/agenda/jornada-de-portes-obertes-a-linstitut-can-margarit-.html
CLASS:PUBLIC
END:VEVENT
END:VCALENDAR
