BEGIN:VCALENDAR
VERSION:2.0
CALSCALE:GREGORIAN
PRODID:-//Diputació de Barcelona//DibaCMS//EN
BEGIN:VEVENT
UID:9315
DTSTAMP:20260423T162056
DTSTART:20260226T000000
DTEND:20260226T000000
SUMMARY:Jornada de portes obertes a l'escola Jaume Balmes
LOCATION:Carrer Sant Jordi, 27 08757 Corbera de Llobregat
METHOD:PUBLISH
X-WR-CALNAME:ajuntament@corberadellobregat.cat
X-WR-TIMEZONE:Europe/Madrid
DESCRIPTION:
URI:https://www.corberadellobregat.cat/actualitat/agenda/jornada-de-portes-obertes-a-lescola-jaume-balmes.html
CLASS:PUBLIC
END:VEVENT
END:VCALENDAR
