BEGIN:VCALENDAR
VERSION:2.0
CALSCALE:GREGORIAN
PRODID:-//Diputació de Barcelona//DibaCMS//EN
BEGIN:VEVENT
UID:9317
DTSTAMP:20260423T155828
DTSTART:20260302T091000
DTEND:20260302T091000
SUMMARY:Jornada de portes obertes a l'escola El Cau de la Guineu 
LOCATION:C. Casanova, 32 08757 Corbera de Llobregat
METHOD:PUBLISH
X-WR-CALNAME:ajuntament@corberadellobregat.cat
X-WR-TIMEZONE:Europe/Madrid
DESCRIPTION:
URI:https://www.corberadellobregat.cat/actualitat/agenda/jornada-de-portes-obertes-a-lescola-el-cau-de-la-guineu-.html
CLASS:PUBLIC
END:VEVENT
END:VCALENDAR
