BEGIN:VCALENDAR
VERSION:2.0
CALSCALE:GREGORIAN
PRODID:-//Diputació de Barcelona//DibaCMS//EN
BEGIN:VEVENT
UID:9323
DTSTAMP:20260423T161051
DTSTART:20260301T113000
DTEND:20260301T133000
SUMMARY:Jugateca ambiental.  La fauna del parc i taller de petjades.  
LOCATION:08757 Corbera de Llobregat
METHOD:PUBLISH
X-WR-CALNAME:ajuntament@corberadellobregat.cat
X-WR-TIMEZONE:Europe/Madrid
DESCRIPTION:
URI:https://www.corberadellobregat.cat/actualitat/agenda/jugateca-ambiental-la-fauna-del-parc-i-taller-de-petjades-.html
CLASS:PUBLIC
END:VEVENT
END:VCALENDAR
