BEGIN:VCALENDAR
VERSION:2.0
CALSCALE:GREGORIAN
PRODID:-//Diputació de Barcelona//DibaCMS//EN
BEGIN:VEVENT
UID:9337
DTSTAMP:20260423T144811
DTSTART:20260313T203000
DTEND:20260313T203000
SUMMARY:Sons Corbera.  Un viatge poètic a través de l'arpa
LOCATION:
METHOD:PUBLISH
X-WR-CALNAME:ajuntament@corberadellobregat.cat
X-WR-TIMEZONE:Europe/Madrid
DESCRIPTION:
URI:https://www.corberadellobregat.cat/actualitat/agenda/sons-corbera-un-viatge-poetic-a-traves-de-larpa.html
CLASS:PUBLIC
END:VEVENT
END:VCALENDAR
