BEGIN:VCALENDAR
VERSION:2.0
CALSCALE:GREGORIAN
PRODID:-//Diputació de Barcelona//DibaCMS//EN
BEGIN:VEVENT
UID:9339
DTSTAMP:20260423T145308
DTSTART:20260308T113000
DTEND:20260308T133000
SUMMARY:Jugateca ambiental.  De gota en gota
LOCATION:08757 Corbera de Llobregat
METHOD:PUBLISH
X-WR-CALNAME:ajuntament@corberadellobregat.cat
X-WR-TIMEZONE:Europe/Madrid
DESCRIPTION:
URI:https://www.corberadellobregat.cat/actualitat/agenda/jugateca-ambiental-de-gota-en-gota.html
CLASS:PUBLIC
END:VEVENT
END:VCALENDAR
