BEGIN:VCALENDAR
VERSION:2.0
CALSCALE:GREGORIAN
PRODID:-//Diputació de Barcelona//DibaCMS//EN
BEGIN:VEVENT
UID:9343
DTSTAMP:20260423T155418
DTSTART:20260303T153000
DTEND:20260303T200000
SUMMARY:Formació: Com posar preu als meus productes o serveis
LOCATION:Carrer Sant Jordi 29 08757 Corbera de Llobregat
METHOD:PUBLISH
X-WR-CALNAME:ajuntament@corberadellobregat.cat
X-WR-TIMEZONE:Europe/Madrid
DESCRIPTION:
URI:https://www.corberadellobregat.cat/actualitat/agenda/formacio-com-posar-preu-als-meus-productes-o-serveis.html
CLASS:PUBLIC
END:VEVENT
END:VCALENDAR
