BEGIN:VCALENDAR
VERSION:2.0
CALSCALE:GREGORIAN
PRODID:-//Diputació de Barcelona//DibaCMS//EN
BEGIN:VEVENT
UID:9355
DTSTAMP:20260423T144310
DTSTART:20260314T093000
DTEND:20260314T120000
SUMMARY:Bosc i Cingleres 
LOCATION:El punt de trobada es facilita en el moment de fer la inscripció  
METHOD:PUBLISH
X-WR-CALNAME:ajuntament@corberadellobregat.cat
X-WR-TIMEZONE:Europe/Madrid
DESCRIPTION:Ruta d'interpretació de la Natura

URI:https://www.corberadellobregat.cat/actualitat/agenda/bosc-i-cingleres-.html
CLASS:PUBLIC
END:VEVENT
END:VCALENDAR
