BEGIN:VCALENDAR
VERSION:2.0
CALSCALE:GREGORIAN
PRODID:-//Diputació de Barcelona//DibaCMS//EN
BEGIN:VEVENT
UID:9357
DTSTAMP:20260422T080654
DTSTART:20260423T100000
DTEND:20260423T200000
SUMMARY:Sant Jordi
LOCATION:Plaça Mil·lenari i av.Catalunya 
METHOD:PUBLISH
X-WR-CALNAME:ajuntament@corberadellobregat.cat
X-WR-TIMEZONE:Europe/Madrid
DESCRIPTION:
URI:https://www.corberadellobregat.cat/actualitat/agenda/sant-jordi.html
CLASS:PUBLIC
END:VEVENT
END:VCALENDAR
