BEGIN:VCALENDAR
VERSION:2.0
CALSCALE:GREGORIAN
PRODID:-//Diputació de Barcelona//DibaCMS//EN
BEGIN:VEVENT
UID:9358
DTSTAMP:20260422T065141
DTSTART:20260510T100000
DTEND:20260510T200000
SUMMARY:Aplec de Sant Ponç
LOCATION:
METHOD:PUBLISH
X-WR-CALNAME:ajuntament@corberadellobregat.cat
X-WR-TIMEZONE:Europe/Madrid
DESCRIPTION:
URI:https://www.corberadellobregat.cat/actualitat/agenda/9358-aplec-de-sant-ponc.html
CLASS:PUBLIC
END:VEVENT
END:VCALENDAR
