BEGIN:VCALENDAR
VERSION:2.0
CALSCALE:GREGORIAN
PRODID:-//Diputació de Barcelona//DibaCMS//EN
BEGIN:VEVENT
UID:9363
DTSTAMP:20260423T161733
DTSTART:20260305T000000
DTEND:20260305T000000
SUMMARY: Taller: Arquetips femenins i escriptura creativa
LOCATION:Sant Salvador, 25 08757 Corbera de Llobregat
METHOD:PUBLISH
X-WR-CALNAME:ajuntament@corberadellobregat.cat
X-WR-TIMEZONE:Europe/Madrid
DESCRIPTION:
URI:https://www.corberadellobregat.cat/actualitat/agenda/-taller-arquetips-femenins-i-escriptura-creativa.html
CLASS:PUBLIC
END:VEVENT
END:VCALENDAR
