BEGIN:VCALENDAR
VERSION:2.0
CALSCALE:GREGORIAN
PRODID:-//Diputació de Barcelona//DibaCMS//EN
BEGIN:VEVENT
UID:9367
DTSTAMP:20260423T160828
DTSTART:20260308T100000
DTEND:20260308T100000
SUMMARY:Amb veu de dona.  Programa especial de Ràdio Corbera
LOCATION:
METHOD:PUBLISH
X-WR-CALNAME:ajuntament@corberadellobregat.cat
X-WR-TIMEZONE:Europe/Madrid
DESCRIPTION:
URI:https://www.corberadellobregat.cat/actualitat/agenda/amb-veu-de-dona-programa-especial-de-radio-corbera.html
CLASS:PUBLIC
END:VEVENT
END:VCALENDAR
