BEGIN:VCALENDAR
VERSION:2.0
CALSCALE:GREGORIAN
PRODID:-//Diputació de Barcelona//DibaCMS//EN
BEGIN:VEVENT
UID:9368
DTSTAMP:20260423T144602
DTSTART:20260308T120000
DTEND:20260308T120000
SUMMARY:D'aquells boleros aquells contes NOVA UBICACIÓ
LOCATION:Plaça de Sant Antoni 
METHOD:PUBLISH
X-WR-CALNAME:ajuntament@corberadellobregat.cat
X-WR-TIMEZONE:Europe/Madrid
DESCRIPTION:
URI:https://www.corberadellobregat.cat/actualitat/agenda/daquells-boleros-aquells-contes-nova-ubicacio.html
CLASS:PUBLIC
END:VEVENT
END:VCALENDAR
