BEGIN:VCALENDAR
VERSION:2.0
CALSCALE:GREGORIAN
PRODID:-//Diputació de Barcelona//DibaCMS//EN
BEGIN:VEVENT
UID:9370
DTSTAMP:20260423T143536
DTSTART:20260314T170000
DTEND:20260314T170000
SUMMARY:Rigoberta i el Windigo
LOCATION:
METHOD:PUBLISH
X-WR-CALNAME:ajuntament@corberadellobregat.cat
X-WR-TIMEZONE:Europe/Madrid
DESCRIPTION:
URI:https://www.corberadellobregat.cat/actualitat/agenda/rigoberta-i-el-windigo.html
CLASS:PUBLIC
END:VEVENT
END:VCALENDAR
