BEGIN:VCALENDAR
VERSION:2.0
CALSCALE:GREGORIAN
PRODID:-//Diputació de Barcelona//DibaCMS//EN
BEGIN:VEVENT
UID:9371
DTSTAMP:20260423T162301
DTSTART:20260313T193000
DTEND:20260313T193000
SUMMARY:Kafeta transfeminista internacionalista
LOCATION:
METHOD:PUBLISH
X-WR-CALNAME:ajuntament@corberadellobregat.cat
X-WR-TIMEZONE:Europe/Madrid
DESCRIPTION:
URI:https://www.corberadellobregat.cat/actualitat/agenda/kafeta-transfeminista-internacionalista.html
CLASS:PUBLIC
END:VEVENT
END:VCALENDAR
