BEGIN:VCALENDAR
VERSION:2.0
CALSCALE:GREGORIAN
PRODID:-//Diputació de Barcelona//DibaCMS//EN
BEGIN:VEVENT
UID:9374
DTSTAMP:20260422T094736
DTSTART:20260706T000000
DTEND:20260709T000000
SUMMARY:1er Curs de Música Barroca de Corbera de Llobregat
LOCATION:
METHOD:PUBLISH
X-WR-CALNAME:ajuntament@corberadellobregat.cat
X-WR-TIMEZONE:Europe/Madrid
DESCRIPTION:
URI:https://www.corberadellobregat.cat/actualitat/agenda/1er-curs-de-musica-barroca-de-corbera-de-llobregat.html
CLASS:PUBLIC
END:VEVENT
END:VCALENDAR
