BEGIN:VCALENDAR
VERSION:2.0
CALSCALE:GREGORIAN
PRODID:-//Diputació de Barcelona//DibaCMS//EN
BEGIN:VEVENT
UID:9375
DTSTAMP:20260423T143516
DTSTART:20260308T113000
DTEND:20260308T113000
SUMMARY:Recordem dones que han canviat el món
LOCATION:
METHOD:PUBLISH
X-WR-CALNAME:ajuntament@corberadellobregat.cat
X-WR-TIMEZONE:Europe/Madrid
DESCRIPTION:
URI:https://www.corberadellobregat.cat/actualitat/agenda/recordem-dones-que-han-canviat-el-mon.html
CLASS:PUBLIC
END:VEVENT
END:VCALENDAR
