BEGIN:VCALENDAR
VERSION:2.0
CALSCALE:GREGORIAN
PRODID:-//Diputació de Barcelona//DibaCMS//EN
BEGIN:VEVENT
UID:9381
DTSTAMP:20260423T134111
DTSTART:20260309T193000
DTEND:20260309T193000
SUMMARY:Presentació del llibre Les deesses que hi ha en mi
LOCATION:Sant Salvador, 25 08757 Corbera de Llobregat
METHOD:PUBLISH
X-WR-CALNAME:ajuntament@corberadellobregat.cat
X-WR-TIMEZONE:Europe/Madrid
DESCRIPTION:
URI:https://www.corberadellobregat.cat/actualitat/agenda/9381-presentacio-del-llibre-les-deesses-que-hi-ha-en-mi.html
CLASS:PUBLIC
END:VEVENT
END:VCALENDAR
