BEGIN:VCALENDAR
VERSION:2.0
CALSCALE:GREGORIAN
PRODID:-//Diputació de Barcelona//DibaCMS//EN
BEGIN:VEVENT
UID:9455
DTSTAMP:20260423T122039
DTSTART:20260428T173000
DTEND:20260428T173000
SUMMARY:Mostra dels treballs de l'alumnat de l'Institut Can Margarit
LOCATION:Sant Salvador, 25 08757 Corbera de Llobregat
METHOD:PUBLISH
X-WR-CALNAME:ajuntament@corberadellobregat.cat
X-WR-TIMEZONE:Europe/Madrid
DESCRIPTION:
URI:https://www.corberadellobregat.cat/actualitat/agenda/mostra-dels-treballs-de-lalumnat-de-linstitut-can-margarit.html
CLASS:PUBLIC
END:VEVENT
END:VCALENDAR
