BEGIN:VCALENDAR
VERSION:2.0
CALSCALE:GREGORIAN
PRODID:-//Diputació de Barcelona//DibaCMS//EN
BEGIN:VEVENT
UID:9456
DTSTAMP:20260423T143344
DTSTART:20260429T180000
DTEND:20260429T180000
SUMMARY:club de lectura
LOCATION:Sant Salvador, 25 08757 Corbera de Llobregat
METHOD:PUBLISH
X-WR-CALNAME:ajuntament@corberadellobregat.cat
X-WR-TIMEZONE:Europe/Madrid
DESCRIPTION:
URI:https://www.corberadellobregat.cat/actualitat/agenda/9456-club-de-lectura.html
CLASS:PUBLIC
END:VEVENT
END:VCALENDAR
