BEGIN:VCALENDAR
VERSION:2.0
CALSCALE:GREGORIAN
PRODID:-//Diputació de Barcelona//DibaCMS//EN
BEGIN:VEVENT
UID:9462
DTSTAMP:20260423T100800
DTSTART:20260421T193000
DTEND:20260421T193000
SUMMARY:Parlem de la mort
LOCATION:Sant Salvador, 25 08757 Corbera de Llobregat
METHOD:PUBLISH
X-WR-CALNAME:ajuntament@corberadellobregat.cat
X-WR-TIMEZONE:Europe/Madrid
DESCRIPTION:
URI:https://www.corberadellobregat.cat/actualitat/agenda/parlem-de-la-mort.html
CLASS:PUBLIC
END:VEVENT
END:VCALENDAR
