BEGIN:VCALENDAR
VERSION:2.0
CALSCALE:GREGORIAN
PRODID:-//Diputació de Barcelona//DibaCMS//EN
BEGIN:VEVENT
UID:9466
DTSTAMP:20260423T132147
DTSTART:20260422T190000
DTEND:20260422T190000
SUMMARY:Presentació del llibre: No pasa nada
LOCATION:Sant Salvador, 25 08757 Corbera de Llobregat
METHOD:PUBLISH
X-WR-CALNAME:ajuntament@corberadellobregat.cat
X-WR-TIMEZONE:Europe/Madrid
DESCRIPTION:
URI:https://www.corberadellobregat.cat/actualitat/agenda/presentacio-del-llibre-no-pasa-nada.html
CLASS:PUBLIC
END:VEVENT
END:VCALENDAR
