BEGIN:VCALENDAR
VERSION:2.0
CALSCALE:GREGORIAN
PRODID:-//Diputació de Barcelona//DibaCMS//EN
BEGIN:VEVENT
UID:9467
DTSTAMP:20260423T132110
DTSTART:20260424T173000
DTEND:20260424T173000
SUMMARY:Conte per a bebès.  Del bressol a la lluna
LOCATION:Sant Salvador, 25 08757 Corbera de Llobregat
METHOD:PUBLISH
X-WR-CALNAME:ajuntament@corberadellobregat.cat
X-WR-TIMEZONE:Europe/Madrid
DESCRIPTION:
URI:https://www.corberadellobregat.cat/actualitat/agenda/conte-per-a-bebes-del-bressol-a-la-lluna.html
CLASS:PUBLIC
END:VEVENT
END:VCALENDAR
