BEGIN:VCALENDAR
VERSION:2.0
CALSCALE:GREGORIAN
PRODID:-//Diputació de Barcelona//DibaCMS//EN
BEGIN:VEVENT
UID:9469
DTSTAMP:20260423T110946
DTSTART:20260420T180000
DTEND:20260420T180000
SUMMARY:Presentació del conte "Entre anar i venir"
LOCATION:Sant Salvador, 25 08757 Corbera de Llobregat
METHOD:PUBLISH
X-WR-CALNAME:ajuntament@corberadellobregat.cat
X-WR-TIMEZONE:Europe/Madrid
DESCRIPTION:
URI:https://www.corberadellobregat.cat/actualitat/agenda/presentacio-del-conte-entre-anar-i-venir.html
CLASS:PUBLIC
END:VEVENT
END:VCALENDAR
