BEGIN:VCALENDAR
VERSION:2.0
CALSCALE:GREGORIAN
PRODID:-//Diputació de Barcelona//DibaCMS//EN
BEGIN:VEVENT
UID:9470
DTSTAMP:20260423T133133
DTSTART:20260419T113000
DTEND:20260419T133000
SUMMARY:Jugateca Ambiental.  Hotel d'insectes
LOCATION:08757 Corbera de Llobregat
METHOD:PUBLISH
X-WR-CALNAME:ajuntament@corberadellobregat.cat
X-WR-TIMEZONE:Europe/Madrid
DESCRIPTION:
URI:https://www.corberadellobregat.cat/actualitat/agenda/jugateca-ambiental-hotel-dinsectes.html
CLASS:PUBLIC
END:VEVENT
END:VCALENDAR
