BEGIN:VCALENDAR
VERSION:2.0
CALSCALE:GREGORIAN
PRODID:-//Diputació de Barcelona//DibaCMS//EN
BEGIN:VEVENT
UID:9471
DTSTAMP:20260423T131542
DTSTART:20260426T113000
DTEND:20260426T133000
SUMMARY:Jugateca Ambiental.  El dia de les papallones
LOCATION:08757 Corbera de Llobregat
METHOD:PUBLISH
X-WR-CALNAME:ajuntament@corberadellobregat.cat
X-WR-TIMEZONE:Europe/Madrid
DESCRIPTION:
URI:https://www.corberadellobregat.cat/actualitat/agenda/jugateca-ambiental-el-dia-de-les-papallones.html
CLASS:PUBLIC
END:VEVENT
END:VCALENDAR
