BEGIN:VCALENDAR
VERSION:2.0
CALSCALE:GREGORIAN
PRODID:-//Diputació de Barcelona//DibaCMS//EN
BEGIN:VEVENT
UID:9472
DTSTAMP:20260423T155407
DTSTART:20260503T113000
DTEND:20260503T133000
SUMMARY:Jugateca Ambiental.  Termòmetre del soroll
LOCATION:08757 Corbera de Llobregat
METHOD:PUBLISH
X-WR-CALNAME:ajuntament@corberadellobregat.cat
X-WR-TIMEZONE:Europe/Madrid
DESCRIPTION:
URI:https://www.corberadellobregat.cat/actualitat/agenda/jugateca-ambiental-termometre-del-soroll.html
CLASS:PUBLIC
END:VEVENT
END:VCALENDAR
