BEGIN:VCALENDAR
VERSION:2.0
CALSCALE:GREGORIAN
PRODID:-//Diputació de Barcelona//DibaCMS//EN
BEGIN:VEVENT
UID:9492
DTSTAMP:20260423T121940
DTSTART:20260613T100000
DTEND:20260613T140000
SUMMARY:Sessió de Jocs.  Club Ludonàutic Corbera 
LOCATION:Sant Salvador, 25 08757 Corbera de Llobregat
METHOD:PUBLISH
X-WR-CALNAME:ajuntament@corberadellobregat.cat
X-WR-TIMEZONE:Europe/Madrid
DESCRIPTION:
URI:https://www.corberadellobregat.cat/actualitat/agenda/9492-sessio-de-jocs-club-ludonautic-corbera-.html
CLASS:PUBLIC
END:VEVENT
END:VCALENDAR
